BEGIN:VCALENDAR
VERSION:2.0
PRODID:-//NY Mom - ECPv6.15.20//NONSGML v1.0//EN
CALSCALE:GREGORIAN
METHOD:PUBLISH
X-ORIGINAL-URL:https://nymom.com
X-WR-CALDESC:Events for NY Mom
REFRESH-INTERVAL;VALUE=DURATION:PT1H
X-Robots-Tag:noindex
X-PUBLISHED-TTL:PT1H
BEGIN:VTIMEZONE
TZID:UTC
BEGIN:STANDARD
TZOFFSETFROM:+0000
TZOFFSETTO:+0000
TZNAME:UTC
DTSTART:20250101T000000
END:STANDARD
END:VTIMEZONE
BEGIN:VEVENT
DTSTART;TZID=UTC:20260330T080000
DTEND;TZID=UTC:20260330T170000
DTSTAMP:20260422T203932
CREATED:20260126T152331Z
LAST-MODIFIED:20260126T152331Z
UID:10012146-1774857600-1774890000@nymom.com
SUMMARY:The Orchid Show: Mr Flower Fantastic's Concrete Jungle
DESCRIPTION:Take in beautiful orchids combined with concrete in a reimagining of the Big Apple including stoops\, pizza shops\, and even the subway!
URL:https://nymom.com/event/the-orchid-show-mr-flower-fantastics-concrete-jungle/2026-03-30/
END:VEVENT
BEGIN:VEVENT
DTSTART;TZID=UTC:20260331T080000
DTEND;TZID=UTC:20260331T170000
DTSTAMP:20260422T203932
CREATED:20260126T152331Z
LAST-MODIFIED:20260126T152331Z
UID:10012147-1774944000-1774976400@nymom.com
SUMMARY:The Orchid Show: Mr Flower Fantastic's Concrete Jungle
DESCRIPTION:Take in beautiful orchids combined with concrete in a reimagining of the Big Apple including stoops\, pizza shops\, and even the subway!
URL:https://nymom.com/event/the-orchid-show-mr-flower-fantastics-concrete-jungle/2026-03-31/
END:VEVENT
BEGIN:VEVENT
DTSTART;TZID=UTC:20260401T080000
DTEND;TZID=UTC:20260401T170000
DTSTAMP:20260422T203932
CREATED:20260126T152331Z
LAST-MODIFIED:20260126T152331Z
UID:10012148-1775030400-1775062800@nymom.com
SUMMARY:The Orchid Show: Mr Flower Fantastic's Concrete Jungle
DESCRIPTION:Take in beautiful orchids combined with concrete in a reimagining of the Big Apple including stoops\, pizza shops\, and even the subway!
URL:https://nymom.com/event/the-orchid-show-mr-flower-fantastics-concrete-jungle/2026-04-01/
END:VEVENT
BEGIN:VEVENT
DTSTART;TZID=UTC:20260402T080000
DTEND;TZID=UTC:20260402T170000
DTSTAMP:20260422T203932
CREATED:20260126T152331Z
LAST-MODIFIED:20260126T152331Z
UID:10012149-1775116800-1775149200@nymom.com
SUMMARY:The Orchid Show: Mr Flower Fantastic's Concrete Jungle
DESCRIPTION:Take in beautiful orchids combined with concrete in a reimagining of the Big Apple including stoops\, pizza shops\, and even the subway!
URL:https://nymom.com/event/the-orchid-show-mr-flower-fantastics-concrete-jungle/2026-04-02/
END:VEVENT
BEGIN:VEVENT
DTSTART;TZID=UTC:20260403T080000
DTEND;TZID=UTC:20260403T170000
DTSTAMP:20260422T203932
CREATED:20260126T152331Z
LAST-MODIFIED:20260126T152331Z
UID:10012150-1775203200-1775235600@nymom.com
SUMMARY:The Orchid Show: Mr Flower Fantastic's Concrete Jungle
DESCRIPTION:Take in beautiful orchids combined with concrete in a reimagining of the Big Apple including stoops\, pizza shops\, and even the subway!
URL:https://nymom.com/event/the-orchid-show-mr-flower-fantastics-concrete-jungle/2026-04-03/
END:VEVENT
BEGIN:VEVENT
DTSTART;TZID=UTC:20260404T080000
DTEND;TZID=UTC:20260404T170000
DTSTAMP:20260422T203932
CREATED:20260126T152331Z
LAST-MODIFIED:20260126T152331Z
UID:10012151-1775289600-1775322000@nymom.com
SUMMARY:The Orchid Show: Mr Flower Fantastic's Concrete Jungle
DESCRIPTION:Take in beautiful orchids combined with concrete in a reimagining of the Big Apple including stoops\, pizza shops\, and even the subway!
URL:https://nymom.com/event/the-orchid-show-mr-flower-fantastics-concrete-jungle/2026-04-04/
END:VEVENT
BEGIN:VEVENT
DTSTART;TZID=UTC:20260404T100000
DTEND;TZID=UTC:20260404T170000
DTSTAMP:20260422T203932
CREATED:20260305T154423Z
LAST-MODIFIED:20260305T154423Z
UID:10012220-1775296800-1775322000@nymom.com
SUMMARY:Barnyard Egg Hunt
DESCRIPTION:Kids and their grown-ups can delight in this classic springtime tradition. Hunt for colorful\, prize-filled eggs in Queens Farm’s historic orchard\, snap photos with Whiskers the Bunny\, and enjoy outdoor games that make memories worth keeping!
URL:https://nymom.com/event/barnyard-egg-hunt/2026-04-04/
END:VEVENT
BEGIN:VEVENT
DTSTART;TZID=UTC:20260405T080000
DTEND;TZID=UTC:20260405T170000
DTSTAMP:20260422T203932
CREATED:20260126T152331Z
LAST-MODIFIED:20260126T152331Z
UID:10012152-1775376000-1775408400@nymom.com
SUMMARY:The Orchid Show: Mr Flower Fantastic's Concrete Jungle
DESCRIPTION:Take in beautiful orchids combined with concrete in a reimagining of the Big Apple including stoops\, pizza shops\, and even the subway!
URL:https://nymom.com/event/the-orchid-show-mr-flower-fantastics-concrete-jungle/2026-04-05/
END:VEVENT
END:VCALENDAR