BEGIN:VCALENDAR
VERSION:2.0
PRODID:-//NY Mom - ECPv6.15.20//NONSGML v1.0//EN
CALSCALE:GREGORIAN
METHOD:PUBLISH
X-ORIGINAL-URL:https://nymom.com
X-WR-CALDESC:Events for NY Mom
REFRESH-INTERVAL;VALUE=DURATION:PT1H
X-Robots-Tag:noindex
X-PUBLISHED-TTL:PT1H
BEGIN:VTIMEZONE
TZID:UTC
BEGIN:STANDARD
TZOFFSETFROM:+0000
TZOFFSETTO:+0000
TZNAME:UTC
DTSTART:20250101T000000
END:STANDARD
END:VTIMEZONE
BEGIN:VEVENT
DTSTART;TZID=UTC:20260130T080000
DTEND;TZID=UTC:20260130T170000
DTSTAMP:20260422T235340
CREATED:20260126T151812Z
LAST-MODIFIED:20260126T151812Z
UID:10012088-1769760000-1769792400@nymom.com
SUMMARY:Disney On Ice: Mickey's Search Party
DESCRIPTION:Grab the family and head to this fun event to see all of your Disney friends glide across the ice and tell the beloved stores that everyone will know! 
URL:https://nymom.com/event/disney-on-ice-mickeys-search-party/2026-01-30/
END:VEVENT
BEGIN:VEVENT
DTSTART;TZID=UTC:20260131T080000
DTEND;TZID=UTC:20260131T170000
DTSTAMP:20260422T235340
CREATED:20260126T151812Z
LAST-MODIFIED:20260126T151812Z
UID:10012089-1769846400-1769878800@nymom.com
SUMMARY:Disney On Ice: Mickey's Search Party
DESCRIPTION:Grab the family and head to this fun event to see all of your Disney friends glide across the ice and tell the beloved stores that everyone will know! 
URL:https://nymom.com/event/disney-on-ice-mickeys-search-party/2026-01-31/
END:VEVENT
END:VCALENDAR