BEGIN:VCALENDAR
VERSION:2.0
PRODID:-//NY Mom - ECPv6.15.20//NONSGML v1.0//EN
CALSCALE:GREGORIAN
METHOD:PUBLISH
X-WR-CALNAME:NY Mom
X-ORIGINAL-URL:https://nymom.com
X-WR-CALDESC:Events for NY Mom
REFRESH-INTERVAL;VALUE=DURATION:PT1H
X-Robots-Tag:noindex
X-PUBLISHED-TTL:PT1H
BEGIN:VTIMEZONE
TZID:UTC
BEGIN:STANDARD
TZOFFSETFROM:+0000
TZOFFSETTO:+0000
TZNAME:UTC
DTSTART:20250101T000000
END:STANDARD
END:VTIMEZONE
BEGIN:VEVENT
DTSTART;TZID=UTC:20260227T080000
DTEND;TZID=UTC:20260227T170000
DTSTAMP:20260423T095334
CREATED:20260126T152331Z
LAST-MODIFIED:20260126T152331Z
UID:10012115-1772179200-1772211600@nymom.com
SUMMARY:The Orchid Show: Mr Flower Fantastic's Concrete Jungle
DESCRIPTION:Take in beautiful orchids combined with concrete in a reimagining of the Big Apple including stoops\, pizza shops\, and even the subway!
URL:https://nymom.com/event/the-orchid-show-mr-flower-fantastics-concrete-jungle/2026-02-27/
END:VEVENT
BEGIN:VEVENT
DTSTART;TZID=UTC:20260228T080000
DTEND;TZID=UTC:20260228T170000
DTSTAMP:20260423T095334
CREATED:20260126T152331Z
LAST-MODIFIED:20260126T152331Z
UID:10012116-1772265600-1772298000@nymom.com
SUMMARY:The Orchid Show: Mr Flower Fantastic's Concrete Jungle
DESCRIPTION:Take in beautiful orchids combined with concrete in a reimagining of the Big Apple including stoops\, pizza shops\, and even the subway!
URL:https://nymom.com/event/the-orchid-show-mr-flower-fantastics-concrete-jungle/2026-02-28/
END:VEVENT
BEGIN:VEVENT
DTSTART;TZID=UTC:20260228T080000
DTEND;TZID=UTC:20260228T170000
DTSTAMP:20260423T095334
CREATED:20260126T152834Z
LAST-MODIFIED:20260126T152834Z
UID:10012187-1772265600-1772298000@nymom.com
SUMMARY:The Grandest Princess Ball
DESCRIPTION:Have a little one who loves princesses? Then this event is for you! \nHighlights include:\n✨ Step into a magical wintery fairytale with your favorite princesses\n🍰 Enjoy delightful desserts and treats fit for royalty\n🎶 Dance\, sing\, and play enchanting interactive games with princesses\n🎉 Create unforgettable family memories in a sparkling royal celebration
URL:https://nymom.com/event/the-grandest-princess-ball/2026-02-28/
END:VEVENT
BEGIN:VEVENT
DTSTART;TZID=UTC:20260301T080000
DTEND;TZID=UTC:20260301T170000
DTSTAMP:20260423T095334
CREATED:20260126T152331Z
LAST-MODIFIED:20260126T152331Z
UID:10012117-1772352000-1772384400@nymom.com
SUMMARY:The Orchid Show: Mr Flower Fantastic's Concrete Jungle
DESCRIPTION:Take in beautiful orchids combined with concrete in a reimagining of the Big Apple including stoops\, pizza shops\, and even the subway!
URL:https://nymom.com/event/the-orchid-show-mr-flower-fantastics-concrete-jungle/2026-03-01/
END:VEVENT
BEGIN:VEVENT
DTSTART;TZID=UTC:20260302T080000
DTEND;TZID=UTC:20260302T170000
DTSTAMP:20260423T095334
CREATED:20260126T152331Z
LAST-MODIFIED:20260126T152331Z
UID:10012118-1772438400-1772470800@nymom.com
SUMMARY:The Orchid Show: Mr Flower Fantastic's Concrete Jungle
DESCRIPTION:Take in beautiful orchids combined with concrete in a reimagining of the Big Apple including stoops\, pizza shops\, and even the subway!
URL:https://nymom.com/event/the-orchid-show-mr-flower-fantastics-concrete-jungle/2026-03-02/
END:VEVENT
BEGIN:VEVENT
DTSTART;TZID=UTC:20260303T080000
DTEND;TZID=UTC:20260303T170000
DTSTAMP:20260423T095334
CREATED:20260126T152331Z
LAST-MODIFIED:20260126T152331Z
UID:10012119-1772524800-1772557200@nymom.com
SUMMARY:The Orchid Show: Mr Flower Fantastic's Concrete Jungle
DESCRIPTION:Take in beautiful orchids combined with concrete in a reimagining of the Big Apple including stoops\, pizza shops\, and even the subway!
URL:https://nymom.com/event/the-orchid-show-mr-flower-fantastics-concrete-jungle/2026-03-03/
END:VEVENT
BEGIN:VEVENT
DTSTART;TZID=UTC:20260304T080000
DTEND;TZID=UTC:20260304T170000
DTSTAMP:20260423T095334
CREATED:20260126T152331Z
LAST-MODIFIED:20260126T152331Z
UID:10012120-1772611200-1772643600@nymom.com
SUMMARY:The Orchid Show: Mr Flower Fantastic's Concrete Jungle
DESCRIPTION:Take in beautiful orchids combined with concrete in a reimagining of the Big Apple including stoops\, pizza shops\, and even the subway!
URL:https://nymom.com/event/the-orchid-show-mr-flower-fantastics-concrete-jungle/2026-03-04/
END:VEVENT
BEGIN:VEVENT
DTSTART;TZID=UTC:20260305T080000
DTEND;TZID=UTC:20260305T170000
DTSTAMP:20260423T095334
CREATED:20260126T152331Z
LAST-MODIFIED:20260126T152331Z
UID:10012121-1772697600-1772730000@nymom.com
SUMMARY:The Orchid Show: Mr Flower Fantastic's Concrete Jungle
DESCRIPTION:Take in beautiful orchids combined with concrete in a reimagining of the Big Apple including stoops\, pizza shops\, and even the subway!
URL:https://nymom.com/event/the-orchid-show-mr-flower-fantastics-concrete-jungle/2026-03-05/
END:VEVENT
BEGIN:VEVENT
DTSTART;TZID=UTC:20260306T080000
DTEND;TZID=UTC:20260306T170000
DTSTAMP:20260423T095334
CREATED:20260126T152331Z
LAST-MODIFIED:20260126T152331Z
UID:10012122-1772784000-1772816400@nymom.com
SUMMARY:The Orchid Show: Mr Flower Fantastic's Concrete Jungle
DESCRIPTION:Take in beautiful orchids combined with concrete in a reimagining of the Big Apple including stoops\, pizza shops\, and even the subway!
URL:https://nymom.com/event/the-orchid-show-mr-flower-fantastics-concrete-jungle/2026-03-06/
END:VEVENT
BEGIN:VEVENT
DTSTART;TZID=UTC:20260307T080000
DTEND;TZID=UTC:20260307T170000
DTSTAMP:20260423T095334
CREATED:20260126T152331Z
LAST-MODIFIED:20260126T152331Z
UID:10012123-1772870400-1772902800@nymom.com
SUMMARY:The Orchid Show: Mr Flower Fantastic's Concrete Jungle
DESCRIPTION:Take in beautiful orchids combined with concrete in a reimagining of the Big Apple including stoops\, pizza shops\, and even the subway!
URL:https://nymom.com/event/the-orchid-show-mr-flower-fantastics-concrete-jungle/2026-03-07/
END:VEVENT
BEGIN:VEVENT
DTSTART;TZID=UTC:20260308T080000
DTEND;TZID=UTC:20260308T170000
DTSTAMP:20260423T095334
CREATED:20260126T152331Z
LAST-MODIFIED:20260126T152331Z
UID:10012124-1772956800-1772989200@nymom.com
SUMMARY:The Orchid Show: Mr Flower Fantastic's Concrete Jungle
DESCRIPTION:Take in beautiful orchids combined with concrete in a reimagining of the Big Apple including stoops\, pizza shops\, and even the subway!
URL:https://nymom.com/event/the-orchid-show-mr-flower-fantastics-concrete-jungle/2026-03-08/
END:VEVENT
BEGIN:VEVENT
DTSTART;TZID=UTC:20260309T080000
DTEND;TZID=UTC:20260309T170000
DTSTAMP:20260423T095334
CREATED:20260126T152331Z
LAST-MODIFIED:20260126T152331Z
UID:10012125-1773043200-1773075600@nymom.com
SUMMARY:The Orchid Show: Mr Flower Fantastic's Concrete Jungle
DESCRIPTION:Take in beautiful orchids combined with concrete in a reimagining of the Big Apple including stoops\, pizza shops\, and even the subway!
URL:https://nymom.com/event/the-orchid-show-mr-flower-fantastics-concrete-jungle/2026-03-09/
END:VEVENT
BEGIN:VEVENT
DTSTART;TZID=UTC:20260310T080000
DTEND;TZID=UTC:20260310T170000
DTSTAMP:20260423T095334
CREATED:20260126T152331Z
LAST-MODIFIED:20260126T152331Z
UID:10012126-1773129600-1773162000@nymom.com
SUMMARY:The Orchid Show: Mr Flower Fantastic's Concrete Jungle
DESCRIPTION:Take in beautiful orchids combined with concrete in a reimagining of the Big Apple including stoops\, pizza shops\, and even the subway!
URL:https://nymom.com/event/the-orchid-show-mr-flower-fantastics-concrete-jungle/2026-03-10/
END:VEVENT
BEGIN:VEVENT
DTSTART;TZID=UTC:20260311T080000
DTEND;TZID=UTC:20260311T170000
DTSTAMP:20260423T095334
CREATED:20260126T152331Z
LAST-MODIFIED:20260126T152331Z
UID:10012127-1773216000-1773248400@nymom.com
SUMMARY:The Orchid Show: Mr Flower Fantastic's Concrete Jungle
DESCRIPTION:Take in beautiful orchids combined with concrete in a reimagining of the Big Apple including stoops\, pizza shops\, and even the subway!
URL:https://nymom.com/event/the-orchid-show-mr-flower-fantastics-concrete-jungle/2026-03-11/
END:VEVENT
BEGIN:VEVENT
DTSTART;TZID=UTC:20260312T080000
DTEND;TZID=UTC:20260312T170000
DTSTAMP:20260423T095334
CREATED:20260126T152331Z
LAST-MODIFIED:20260126T152331Z
UID:10012128-1773302400-1773334800@nymom.com
SUMMARY:The Orchid Show: Mr Flower Fantastic's Concrete Jungle
DESCRIPTION:Take in beautiful orchids combined with concrete in a reimagining of the Big Apple including stoops\, pizza shops\, and even the subway!
URL:https://nymom.com/event/the-orchid-show-mr-flower-fantastics-concrete-jungle/2026-03-12/
END:VEVENT
BEGIN:VEVENT
DTSTART;TZID=UTC:20260313T080000
DTEND;TZID=UTC:20260313T170000
DTSTAMP:20260423T095334
CREATED:20260126T152331Z
LAST-MODIFIED:20260126T152331Z
UID:10012129-1773388800-1773421200@nymom.com
SUMMARY:The Orchid Show: Mr Flower Fantastic's Concrete Jungle
DESCRIPTION:Take in beautiful orchids combined with concrete in a reimagining of the Big Apple including stoops\, pizza shops\, and even the subway!
URL:https://nymom.com/event/the-orchid-show-mr-flower-fantastics-concrete-jungle/2026-03-13/
END:VEVENT
BEGIN:VEVENT
DTSTART;TZID=UTC:20260314T080000
DTEND;TZID=UTC:20260314T170000
DTSTAMP:20260423T095334
CREATED:20260126T152331Z
LAST-MODIFIED:20260126T152331Z
UID:10012130-1773475200-1773507600@nymom.com
SUMMARY:The Orchid Show: Mr Flower Fantastic's Concrete Jungle
DESCRIPTION:Take in beautiful orchids combined with concrete in a reimagining of the Big Apple including stoops\, pizza shops\, and even the subway!
URL:https://nymom.com/event/the-orchid-show-mr-flower-fantastics-concrete-jungle/2026-03-14/
END:VEVENT
BEGIN:VEVENT
DTSTART;TZID=UTC:20260314T130000
DTEND;TZID=UTC:20260314T170000
DTSTAMP:20260423T095334
CREATED:20260305T153408Z
LAST-MODIFIED:20260305T153408Z
UID:10012214-1773493200-1773507600@nymom.com
SUMMARY:Spring Into Nowruz: Family Day 2026
DESCRIPTION:Join us in welcoming the Persian New Year at our Nowruz Family Day on Saturday\, March 14\, 2026\, 1 – 4 p.m. Celebrate the start of Spring and learn about Nowruz with interactive workshops\, music\, crafts\, storytelling and more. Don’t forget to enjoy Persian sweets and savories at the Leo Cafe.
URL:https://nymom.com/event/spring-into-nowruz-family-day-2026/
END:VEVENT
BEGIN:VEVENT
DTSTART;TZID=UTC:20260315T080000
DTEND;TZID=UTC:20260315T170000
DTSTAMP:20260423T095334
CREATED:20260126T152331Z
LAST-MODIFIED:20260126T152331Z
UID:10012131-1773561600-1773594000@nymom.com
SUMMARY:The Orchid Show: Mr Flower Fantastic's Concrete Jungle
DESCRIPTION:Take in beautiful orchids combined with concrete in a reimagining of the Big Apple including stoops\, pizza shops\, and even the subway!
URL:https://nymom.com/event/the-orchid-show-mr-flower-fantastics-concrete-jungle/2026-03-15/
END:VEVENT
BEGIN:VEVENT
DTSTART;TZID=UTC:20260315T100000
DTEND;TZID=UTC:20260315T170000
DTSTAMP:20260423T095334
CREATED:20260305T153831Z
LAST-MODIFIED:20260305T153831Z
UID:10012215-1773568800-1773594000@nymom.com
SUMMARY:St. Patrick's Day at the Tenement Museum
DESCRIPTION:Celebrate St. Patrick’s Day with a costumed interpreter who plays the role of Bridget Moore\, an Irish immigrant. You can ask her questions and learn about her life in 1860s New York. You can also enjoy a sweet treat and make a craft.
URL:https://nymom.com/event/st-patricks-day-at-the-tenement-museum/
END:VEVENT
BEGIN:VEVENT
DTSTART;TZID=UTC:20260316T080000
DTEND;TZID=UTC:20260316T170000
DTSTAMP:20260423T095334
CREATED:20260126T152331Z
LAST-MODIFIED:20260126T152331Z
UID:10012132-1773648000-1773680400@nymom.com
SUMMARY:The Orchid Show: Mr Flower Fantastic's Concrete Jungle
DESCRIPTION:Take in beautiful orchids combined with concrete in a reimagining of the Big Apple including stoops\, pizza shops\, and even the subway!
URL:https://nymom.com/event/the-orchid-show-mr-flower-fantastics-concrete-jungle/2026-03-16/
END:VEVENT
BEGIN:VEVENT
DTSTART;TZID=UTC:20260317T080000
DTEND;TZID=UTC:20260317T170000
DTSTAMP:20260423T095334
CREATED:20260126T152331Z
LAST-MODIFIED:20260126T152331Z
UID:10012133-1773734400-1773766800@nymom.com
SUMMARY:The Orchid Show: Mr Flower Fantastic's Concrete Jungle
DESCRIPTION:Take in beautiful orchids combined with concrete in a reimagining of the Big Apple including stoops\, pizza shops\, and even the subway!
URL:https://nymom.com/event/the-orchid-show-mr-flower-fantastics-concrete-jungle/2026-03-17/
END:VEVENT
BEGIN:VEVENT
DTSTART;TZID=UTC:20260317T110000
DTEND;TZID=UTC:20260317T170000
DTSTAMP:20260423T095334
CREATED:20260305T152235Z
LAST-MODIFIED:20260305T152235Z
UID:10012213-1773745200-1773766800@nymom.com
SUMMARY:NYC St. Patrick's Day Parade
DESCRIPTION:The 265th New York City Saint Patrick’s Day Parade will take place along Fifth Avenue in Manhattan on Tuesday\, March 17\, 2026 at 11:00 AM. There will be bagpipes\, Irish dancers\, clubs\, and marching bands.
URL:https://nymom.com/event/nyc-st-patricks-day-parade/
END:VEVENT
BEGIN:VEVENT
DTSTART;TZID=UTC:20260318T080000
DTEND;TZID=UTC:20260318T170000
DTSTAMP:20260423T095334
CREATED:20260126T152331Z
LAST-MODIFIED:20260126T152331Z
UID:10012134-1773820800-1773853200@nymom.com
SUMMARY:The Orchid Show: Mr Flower Fantastic's Concrete Jungle
DESCRIPTION:Take in beautiful orchids combined with concrete in a reimagining of the Big Apple including stoops\, pizza shops\, and even the subway!
URL:https://nymom.com/event/the-orchid-show-mr-flower-fantastics-concrete-jungle/2026-03-18/
END:VEVENT
BEGIN:VEVENT
DTSTART;TZID=UTC:20260319T080000
DTEND;TZID=UTC:20260319T170000
DTSTAMP:20260423T095334
CREATED:20260126T152331Z
LAST-MODIFIED:20260126T152331Z
UID:10012135-1773907200-1773939600@nymom.com
SUMMARY:The Orchid Show: Mr Flower Fantastic's Concrete Jungle
DESCRIPTION:Take in beautiful orchids combined with concrete in a reimagining of the Big Apple including stoops\, pizza shops\, and even the subway!
URL:https://nymom.com/event/the-orchid-show-mr-flower-fantastics-concrete-jungle/2026-03-19/
END:VEVENT
BEGIN:VEVENT
DTSTART;TZID=UTC:20260320T080000
DTEND;TZID=UTC:20260320T170000
DTSTAMP:20260423T095334
CREATED:20260126T152331Z
LAST-MODIFIED:20260126T152331Z
UID:10012136-1773993600-1774026000@nymom.com
SUMMARY:The Orchid Show: Mr Flower Fantastic's Concrete Jungle
DESCRIPTION:Take in beautiful orchids combined with concrete in a reimagining of the Big Apple including stoops\, pizza shops\, and even the subway!
URL:https://nymom.com/event/the-orchid-show-mr-flower-fantastics-concrete-jungle/2026-03-20/
END:VEVENT
BEGIN:VEVENT
DTSTART;TZID=UTC:20260321T080000
DTEND;TZID=UTC:20260321T170000
DTSTAMP:20260423T095334
CREATED:20260126T152331Z
LAST-MODIFIED:20260126T152331Z
UID:10012137-1774080000-1774112400@nymom.com
SUMMARY:The Orchid Show: Mr Flower Fantastic's Concrete Jungle
DESCRIPTION:Take in beautiful orchids combined with concrete in a reimagining of the Big Apple including stoops\, pizza shops\, and even the subway!
URL:https://nymom.com/event/the-orchid-show-mr-flower-fantastics-concrete-jungle/2026-03-21/
END:VEVENT
BEGIN:VEVENT
DTSTART;TZID=UTC:20260321T110000
DTEND;TZID=UTC:20260321T123000
DTSTAMP:20260423T095334
CREATED:20260305T154027Z
LAST-MODIFIED:20260305T154027Z
UID:10012216-1774090800-1774096200@nymom.com
SUMMARY:Holi Celebration
DESCRIPTION:Join us in welcoming the spring harvest with this joyous Hindu festival! \nThis educational program teaches the rich cultural and spiritual significance of Holi by exploring its origins\, evolution\, and how it’s celebrated around the world\, even right here in Queens! Featuring traditional dancers\, Indian snacks and treats\, immerse yourself in the delight of color play\, where the vibrant powders create a kaleidoscope of joy as we run across the scenic south side of our 47-acre farm.
URL:https://nymom.com/event/holi-celebration/
END:VEVENT
BEGIN:VEVENT
DTSTART;TZID=UTC:20260322T080000
DTEND;TZID=UTC:20260322T170000
DTSTAMP:20260423T095334
CREATED:20260126T152331Z
LAST-MODIFIED:20260126T152331Z
UID:10012138-1774166400-1774198800@nymom.com
SUMMARY:The Orchid Show: Mr Flower Fantastic's Concrete Jungle
DESCRIPTION:Take in beautiful orchids combined with concrete in a reimagining of the Big Apple including stoops\, pizza shops\, and even the subway!
URL:https://nymom.com/event/the-orchid-show-mr-flower-fantastics-concrete-jungle/2026-03-22/
END:VEVENT
BEGIN:VEVENT
DTSTART;TZID=UTC:20260322T100000
DTEND;TZID=UTC:20260322T110000
DTSTAMP:20260423T095334
CREATED:20260305T154312Z
LAST-MODIFIED:20260305T154312Z
UID:10012218-1774173600-1774177200@nymom.com
SUMMARY:Happy Birthday\, Dr. Seuss!
DESCRIPTION:Celebrate the creative and zany writing of one of the most popular children’s book authors!  Enjoy reading 2 classic stories by Dr. Seuss\, meet a fine-feathered friend from Are You My Mother?\, and play some games inspired by Dr. Seuss characters.
URL:https://nymom.com/event/happy-birthday-dr-seuss/
END:VEVENT
END:VCALENDAR