BEGIN:VCALENDAR
VERSION:2.0
PRODID:-//NY Mom - ECPv6.15.20//NONSGML v1.0//EN
CALSCALE:GREGORIAN
METHOD:PUBLISH
X-WR-CALNAME:NY Mom
X-ORIGINAL-URL:https://nymom.com
X-WR-CALDESC:Events for NY Mom
REFRESH-INTERVAL;VALUE=DURATION:PT1H
X-Robots-Tag:noindex
X-PUBLISHED-TTL:PT1H
BEGIN:VTIMEZONE
TZID:UTC
BEGIN:STANDARD
TZOFFSETFROM:+0000
TZOFFSETTO:+0000
TZNAME:UTC
DTSTART:20250101T000000
END:STANDARD
END:VTIMEZONE
BEGIN:VEVENT
DTSTART;TZID=UTC:20260216T080000
DTEND;TZID=UTC:20260216T170000
DTSTAMP:20260423T063446
CREATED:20260126T152331Z
LAST-MODIFIED:20260126T152331Z
UID:10012104-1771228800-1771261200@nymom.com
SUMMARY:The Orchid Show: Mr Flower Fantastic's Concrete Jungle
DESCRIPTION:Take in beautiful orchids combined with concrete in a reimagining of the Big Apple including stoops\, pizza shops\, and even the subway!
URL:https://nymom.com/event/the-orchid-show-mr-flower-fantastics-concrete-jungle/2026-02-16/
END:VEVENT
BEGIN:VEVENT
DTSTART;TZID=UTC:20260216T080000
DTEND;TZID=UTC:20260216T170000
DTSTAMP:20260423T063446
CREATED:20260126T152440Z
LAST-MODIFIED:20260126T152440Z
UID:10012176-1771228800-1771261200@nymom.com
SUMMARY:Museum of Modern Art Family Festival: Color Play
DESCRIPTION:The kids will love this festival that includes spaces to play\, create\, and dream.
URL:https://nymom.com/event/museum-of-modern-art-family-festival-color-play/2026-02-16/
END:VEVENT
BEGIN:VEVENT
DTSTART;TZID=UTC:20260216T080000
DTEND;TZID=UTC:20260216T170000
DTSTAMP:20260423T063446
CREATED:20260129T162229Z
LAST-MODIFIED:20260129T162229Z
UID:10012191-1771228800-1771261200@nymom.com
SUMMARY:Intrepid Museum 2026 Kids Week
DESCRIPTION:The Intrepid Museum will host its annual Kids Week festival from Saturday\, February 14–Saturday\, February 21. During Kids Week\, children of all ages and interests will learn about STEAM (science\, technology\, engineering\, arts & math) through fun-filled activities\, hands-on workshops\, live animal encounters\, performances\, special guests and interactive demonstrations designed to educate and inspire. \nKids Week 2026 will feature programming across three core themes\, including Aerospace\, Arts & Culture\, and Nature & STEM\, offering families a wide range of engaging experiences throughout the week.
URL:https://nymom.com/event/intrepid-museum-2026-kids-week/2026-02-16/
END:VEVENT
BEGIN:VEVENT
DTSTART;TZID=UTC:20260216T080000
DTEND;TZID=UTC:20260216T170000
DTSTAMP:20260423T063446
CREATED:20260129T162503Z
LAST-MODIFIED:20260129T162503Z
UID:10012201-1771228800-1771261200@nymom.com
SUMMARY:Black Future Festival
DESCRIPTION:Brooklyn’s boldest celebration of Black imagination\, invention\, and joy\, shaped by Black creators. Make art\, learn dances\, create music\, and envision the future that celebrates Black culture.
URL:https://nymom.com/event/black-future-festival/2026-02-16/
END:VEVENT
BEGIN:VEVENT
DTSTART;TZID=UTC:20260217T080000
DTEND;TZID=UTC:20260217T170000
DTSTAMP:20260423T063446
CREATED:20260126T151939Z
LAST-MODIFIED:20260126T151939Z
UID:10012091-1771315200-1771347600@nymom.com
SUMMARY:Kids Week at Bryant Park
DESCRIPTION:Bring the kids to Bryant Park and enjoy ice skating\, themed activities\, workshops\, and even watch junior skaters perform on the ice!
URL:https://nymom.com/event/kids-week-at-bryant-park/2026-02-17/
END:VEVENT
BEGIN:VEVENT
DTSTART;TZID=UTC:20260217T080000
DTEND;TZID=UTC:20260217T170000
DTSTAMP:20260423T063446
CREATED:20260126T152331Z
LAST-MODIFIED:20260126T152331Z
UID:10012105-1771315200-1771347600@nymom.com
SUMMARY:The Orchid Show: Mr Flower Fantastic's Concrete Jungle
DESCRIPTION:Take in beautiful orchids combined with concrete in a reimagining of the Big Apple including stoops\, pizza shops\, and even the subway!
URL:https://nymom.com/event/the-orchid-show-mr-flower-fantastics-concrete-jungle/2026-02-17/
END:VEVENT
BEGIN:VEVENT
DTSTART;TZID=UTC:20260217T080000
DTEND;TZID=UTC:20260217T170000
DTSTAMP:20260423T063446
CREATED:20260126T152440Z
LAST-MODIFIED:20260126T152440Z
UID:10012177-1771315200-1771347600@nymom.com
SUMMARY:Museum of Modern Art Family Festival: Color Play
DESCRIPTION:The kids will love this festival that includes spaces to play\, create\, and dream.
URL:https://nymom.com/event/museum-of-modern-art-family-festival-color-play/2026-02-17/
END:VEVENT
BEGIN:VEVENT
DTSTART;TZID=UTC:20260217T080000
DTEND;TZID=UTC:20260217T170000
DTSTAMP:20260423T063446
CREATED:20260126T152518Z
LAST-MODIFIED:20260126T152518Z
UID:10012179-1771315200-1771347600@nymom.com
SUMMARY:Lunar New Year Firecracker Ceremony and Cultural Festival
DESCRIPTION:The Better Chinatown Society’s annual New Year’s celebration is hosted in Sara D. Roosevelt Park with firecrackers\, cultural performances\, and much more.
URL:https://nymom.com/event/lunar-new-year-firecracker-ceremony-and-cultural-festival/
END:VEVENT
BEGIN:VEVENT
DTSTART;TZID=UTC:20260217T080000
DTEND;TZID=UTC:20260217T170000
DTSTAMP:20260423T063446
CREATED:20260129T162229Z
LAST-MODIFIED:20260129T162229Z
UID:10012192-1771315200-1771347600@nymom.com
SUMMARY:Intrepid Museum 2026 Kids Week
DESCRIPTION:The Intrepid Museum will host its annual Kids Week festival from Saturday\, February 14–Saturday\, February 21. During Kids Week\, children of all ages and interests will learn about STEAM (science\, technology\, engineering\, arts & math) through fun-filled activities\, hands-on workshops\, live animal encounters\, performances\, special guests and interactive demonstrations designed to educate and inspire. \nKids Week 2026 will feature programming across three core themes\, including Aerospace\, Arts & Culture\, and Nature & STEM\, offering families a wide range of engaging experiences throughout the week.
URL:https://nymom.com/event/intrepid-museum-2026-kids-week/2026-02-17/
END:VEVENT
BEGIN:VEVENT
DTSTART;TZID=UTC:20260217T080000
DTEND;TZID=UTC:20260217T170000
DTSTAMP:20260423T063446
CREATED:20260129T162503Z
LAST-MODIFIED:20260129T162503Z
UID:10012202-1771315200-1771347600@nymom.com
SUMMARY:Black Future Festival
DESCRIPTION:Brooklyn’s boldest celebration of Black imagination\, invention\, and joy\, shaped by Black creators. Make art\, learn dances\, create music\, and envision the future that celebrates Black culture.
URL:https://nymom.com/event/black-future-festival/2026-02-17/
END:VEVENT
BEGIN:VEVENT
DTSTART;TZID=UTC:20260218T080000
DTEND;TZID=UTC:20260218T170000
DTSTAMP:20260423T063446
CREATED:20260126T151939Z
LAST-MODIFIED:20260126T151939Z
UID:10012092-1771401600-1771434000@nymom.com
SUMMARY:Kids Week at Bryant Park
DESCRIPTION:Bring the kids to Bryant Park and enjoy ice skating\, themed activities\, workshops\, and even watch junior skaters perform on the ice!
URL:https://nymom.com/event/kids-week-at-bryant-park/2026-02-18/
END:VEVENT
BEGIN:VEVENT
DTSTART;TZID=UTC:20260218T080000
DTEND;TZID=UTC:20260218T170000
DTSTAMP:20260423T063446
CREATED:20260126T152331Z
LAST-MODIFIED:20260126T152331Z
UID:10012106-1771401600-1771434000@nymom.com
SUMMARY:The Orchid Show: Mr Flower Fantastic's Concrete Jungle
DESCRIPTION:Take in beautiful orchids combined with concrete in a reimagining of the Big Apple including stoops\, pizza shops\, and even the subway!
URL:https://nymom.com/event/the-orchid-show-mr-flower-fantastics-concrete-jungle/2026-02-18/
END:VEVENT
BEGIN:VEVENT
DTSTART;TZID=UTC:20260218T080000
DTEND;TZID=UTC:20260218T170000
DTSTAMP:20260423T063446
CREATED:20260126T152440Z
LAST-MODIFIED:20260126T152440Z
UID:10012178-1771401600-1771434000@nymom.com
SUMMARY:Museum of Modern Art Family Festival: Color Play
DESCRIPTION:The kids will love this festival that includes spaces to play\, create\, and dream.
URL:https://nymom.com/event/museum-of-modern-art-family-festival-color-play/2026-02-18/
END:VEVENT
BEGIN:VEVENT
DTSTART;TZID=UTC:20260218T080000
DTEND;TZID=UTC:20260218T170000
DTSTAMP:20260423T063446
CREATED:20260129T162229Z
LAST-MODIFIED:20260129T162229Z
UID:10012193-1771401600-1771434000@nymom.com
SUMMARY:Intrepid Museum 2026 Kids Week
DESCRIPTION:The Intrepid Museum will host its annual Kids Week festival from Saturday\, February 14–Saturday\, February 21. During Kids Week\, children of all ages and interests will learn about STEAM (science\, technology\, engineering\, arts & math) through fun-filled activities\, hands-on workshops\, live animal encounters\, performances\, special guests and interactive demonstrations designed to educate and inspire. \nKids Week 2026 will feature programming across three core themes\, including Aerospace\, Arts & Culture\, and Nature & STEM\, offering families a wide range of engaging experiences throughout the week.
URL:https://nymom.com/event/intrepid-museum-2026-kids-week/2026-02-18/
END:VEVENT
BEGIN:VEVENT
DTSTART;TZID=UTC:20260218T080000
DTEND;TZID=UTC:20260218T170000
DTSTAMP:20260423T063446
CREATED:20260129T162503Z
LAST-MODIFIED:20260129T162503Z
UID:10012203-1771401600-1771434000@nymom.com
SUMMARY:Black Future Festival
DESCRIPTION:Brooklyn’s boldest celebration of Black imagination\, invention\, and joy\, shaped by Black creators. Make art\, learn dances\, create music\, and envision the future that celebrates Black culture.
URL:https://nymom.com/event/black-future-festival/2026-02-18/
END:VEVENT
BEGIN:VEVENT
DTSTART;TZID=UTC:20260219T080000
DTEND;TZID=UTC:20260219T170000
DTSTAMP:20260423T063446
CREATED:20260126T151939Z
LAST-MODIFIED:20260126T151939Z
UID:10012093-1771488000-1771520400@nymom.com
SUMMARY:Kids Week at Bryant Park
DESCRIPTION:Bring the kids to Bryant Park and enjoy ice skating\, themed activities\, workshops\, and even watch junior skaters perform on the ice!
URL:https://nymom.com/event/kids-week-at-bryant-park/2026-02-19/
END:VEVENT
BEGIN:VEVENT
DTSTART;TZID=UTC:20260219T080000
DTEND;TZID=UTC:20260219T170000
DTSTAMP:20260423T063446
CREATED:20260126T152331Z
LAST-MODIFIED:20260126T152331Z
UID:10012107-1771488000-1771520400@nymom.com
SUMMARY:The Orchid Show: Mr Flower Fantastic's Concrete Jungle
DESCRIPTION:Take in beautiful orchids combined with concrete in a reimagining of the Big Apple including stoops\, pizza shops\, and even the subway!
URL:https://nymom.com/event/the-orchid-show-mr-flower-fantastics-concrete-jungle/2026-02-19/
END:VEVENT
BEGIN:VEVENT
DTSTART;TZID=UTC:20260219T080000
DTEND;TZID=UTC:20260219T170000
DTSTAMP:20260423T063446
CREATED:20260129T162229Z
LAST-MODIFIED:20260129T162229Z
UID:10012194-1771488000-1771520400@nymom.com
SUMMARY:Intrepid Museum 2026 Kids Week
DESCRIPTION:The Intrepid Museum will host its annual Kids Week festival from Saturday\, February 14–Saturday\, February 21. During Kids Week\, children of all ages and interests will learn about STEAM (science\, technology\, engineering\, arts & math) through fun-filled activities\, hands-on workshops\, live animal encounters\, performances\, special guests and interactive demonstrations designed to educate and inspire. \nKids Week 2026 will feature programming across three core themes\, including Aerospace\, Arts & Culture\, and Nature & STEM\, offering families a wide range of engaging experiences throughout the week.
URL:https://nymom.com/event/intrepid-museum-2026-kids-week/2026-02-19/
END:VEVENT
BEGIN:VEVENT
DTSTART;TZID=UTC:20260219T080000
DTEND;TZID=UTC:20260219T170000
DTSTAMP:20260423T063446
CREATED:20260129T162503Z
LAST-MODIFIED:20260129T162503Z
UID:10012204-1771488000-1771520400@nymom.com
SUMMARY:Black Future Festival
DESCRIPTION:Brooklyn’s boldest celebration of Black imagination\, invention\, and joy\, shaped by Black creators. Make art\, learn dances\, create music\, and envision the future that celebrates Black culture.
URL:https://nymom.com/event/black-future-festival/2026-02-19/
END:VEVENT
BEGIN:VEVENT
DTSTART;TZID=UTC:20260220T080000
DTEND;TZID=UTC:20260220T170000
DTSTAMP:20260423T063446
CREATED:20260126T151939Z
LAST-MODIFIED:20260126T151939Z
UID:10012094-1771574400-1771606800@nymom.com
SUMMARY:Kids Week at Bryant Park
DESCRIPTION:Bring the kids to Bryant Park and enjoy ice skating\, themed activities\, workshops\, and even watch junior skaters perform on the ice!
URL:https://nymom.com/event/kids-week-at-bryant-park/2026-02-20/
END:VEVENT
BEGIN:VEVENT
DTSTART;TZID=UTC:20260220T080000
DTEND;TZID=UTC:20260220T170000
DTSTAMP:20260423T063446
CREATED:20260126T152331Z
LAST-MODIFIED:20260126T152331Z
UID:10012108-1771574400-1771606800@nymom.com
SUMMARY:The Orchid Show: Mr Flower Fantastic's Concrete Jungle
DESCRIPTION:Take in beautiful orchids combined with concrete in a reimagining of the Big Apple including stoops\, pizza shops\, and even the subway!
URL:https://nymom.com/event/the-orchid-show-mr-flower-fantastics-concrete-jungle/2026-02-20/
END:VEVENT
BEGIN:VEVENT
DTSTART;TZID=UTC:20260220T080000
DTEND;TZID=UTC:20260220T170000
DTSTAMP:20260423T063446
CREATED:20260129T162229Z
LAST-MODIFIED:20260129T162229Z
UID:10012195-1771574400-1771606800@nymom.com
SUMMARY:Intrepid Museum 2026 Kids Week
DESCRIPTION:The Intrepid Museum will host its annual Kids Week festival from Saturday\, February 14–Saturday\, February 21. During Kids Week\, children of all ages and interests will learn about STEAM (science\, technology\, engineering\, arts & math) through fun-filled activities\, hands-on workshops\, live animal encounters\, performances\, special guests and interactive demonstrations designed to educate and inspire. \nKids Week 2026 will feature programming across three core themes\, including Aerospace\, Arts & Culture\, and Nature & STEM\, offering families a wide range of engaging experiences throughout the week.
URL:https://nymom.com/event/intrepid-museum-2026-kids-week/2026-02-20/
END:VEVENT
BEGIN:VEVENT
DTSTART;TZID=UTC:20260220T080000
DTEND;TZID=UTC:20260220T170000
DTSTAMP:20260423T063446
CREATED:20260129T162503Z
LAST-MODIFIED:20260129T162503Z
UID:10012205-1771574400-1771606800@nymom.com
SUMMARY:Black Future Festival
DESCRIPTION:Brooklyn’s boldest celebration of Black imagination\, invention\, and joy\, shaped by Black creators. Make art\, learn dances\, create music\, and envision the future that celebrates Black culture.
URL:https://nymom.com/event/black-future-festival/2026-02-20/
END:VEVENT
BEGIN:VEVENT
DTSTART;TZID=UTC:20260221T080000
DTEND;TZID=UTC:20260221T170000
DTSTAMP:20260423T063446
CREATED:20260126T152331Z
LAST-MODIFIED:20260126T152331Z
UID:10012109-1771660800-1771693200@nymom.com
SUMMARY:The Orchid Show: Mr Flower Fantastic's Concrete Jungle
DESCRIPTION:Take in beautiful orchids combined with concrete in a reimagining of the Big Apple including stoops\, pizza shops\, and even the subway!
URL:https://nymom.com/event/the-orchid-show-mr-flower-fantastics-concrete-jungle/2026-02-21/
END:VEVENT
BEGIN:VEVENT
DTSTART;TZID=UTC:20260221T080000
DTEND;TZID=UTC:20260221T170000
DTSTAMP:20260423T063446
CREATED:20260126T152644Z
LAST-MODIFIED:20260126T152644Z
UID:10012181-1771660800-1771693200@nymom.com
SUMMARY:2026 Lunar NY Queens Botanical Garden
DESCRIPTION:Celebrate the Year of the Fire Horse at Queens Botanical Garden! \nHighlights include:\n🏮 A thrilling lion dance\n🎆Tai chi\, kung fu\, and face changing performances\n🌑 Craft activities and story time for families
URL:https://nymom.com/event/2026-lunar-ny-queens-botanical-garden/
END:VEVENT
BEGIN:VEVENT
DTSTART;TZID=UTC:20260221T080000
DTEND;TZID=UTC:20260221T170000
DTSTAMP:20260423T063446
CREATED:20260126T152834Z
LAST-MODIFIED:20260126T152834Z
UID:10012185-1771660800-1771693200@nymom.com
SUMMARY:The Grandest Princess Ball
DESCRIPTION:Have a little one who loves princesses? Then this event is for you! \nHighlights include:\n✨ Step into a magical wintery fairytale with your favorite princesses\n🍰 Enjoy delightful desserts and treats fit for royalty\n🎶 Dance\, sing\, and play enchanting interactive games with princesses\n🎉 Create unforgettable family memories in a sparkling royal celebration
URL:https://nymom.com/event/the-grandest-princess-ball/2026-02-21/
END:VEVENT
BEGIN:VEVENT
DTSTART;TZID=UTC:20260221T080000
DTEND;TZID=UTC:20260221T170000
DTSTAMP:20260423T063446
CREATED:20260126T152914Z
LAST-MODIFIED:20260126T152914Z
UID:10012188-1771660800-1771693200@nymom.com
SUMMARY:Moon Over Manhattan: Lunar NY Family Day
DESCRIPTION:Save the Date! Welcome the Year of the Horse at Asia Society’s 2026 Lunar New Year Family Day. Watch exciting lion dances and martial arts demonstrations\, learn fun New Year’s music\, make shadow puppets\, enjoy Year of the Horse arts and crafts\, and more.
URL:https://nymom.com/event/moon-over-manhattan-lunar-ny-family-day/
END:VEVENT
BEGIN:VEVENT
DTSTART;TZID=UTC:20260221T080000
DTEND;TZID=UTC:20260221T170000
DTSTAMP:20260423T063446
CREATED:20260129T162229Z
LAST-MODIFIED:20260129T162229Z
UID:10012196-1771660800-1771693200@nymom.com
SUMMARY:Intrepid Museum 2026 Kids Week
DESCRIPTION:The Intrepid Museum will host its annual Kids Week festival from Saturday\, February 14–Saturday\, February 21. During Kids Week\, children of all ages and interests will learn about STEAM (science\, technology\, engineering\, arts & math) through fun-filled activities\, hands-on workshops\, live animal encounters\, performances\, special guests and interactive demonstrations designed to educate and inspire. \nKids Week 2026 will feature programming across three core themes\, including Aerospace\, Arts & Culture\, and Nature & STEM\, offering families a wide range of engaging experiences throughout the week.
URL:https://nymom.com/event/intrepid-museum-2026-kids-week/2026-02-21/
END:VEVENT
BEGIN:VEVENT
DTSTART;TZID=UTC:20260221T080000
DTEND;TZID=UTC:20260221T170000
DTSTAMP:20260423T063446
CREATED:20260129T162503Z
LAST-MODIFIED:20260129T162503Z
UID:10012206-1771660800-1771693200@nymom.com
SUMMARY:Black Future Festival
DESCRIPTION:Brooklyn’s boldest celebration of Black imagination\, invention\, and joy\, shaped by Black creators. Make art\, learn dances\, create music\, and envision the future that celebrates Black culture.
URL:https://nymom.com/event/black-future-festival/2026-02-21/
END:VEVENT
BEGIN:VEVENT
DTSTART;TZID=UTC:20260221T080000
DTEND;TZID=UTC:20260221T170000
DTSTAMP:20260423T063446
CREATED:20260129T162545Z
LAST-MODIFIED:20260129T162545Z
UID:10012207-1771660800-1771693200@nymom.com
SUMMARY:Lunar New Year Celebration
DESCRIPTION:Ring in the Lunar New Year at the Museum with a festive\, family-friendly celebration welcoming the Year of the Horse! Explore Chinese and Korean Lunar New Year traditions through hands-on art-making\, interactive touch objects\, and engaging activities that invite visitors of all ages to learn\, create\, and celebrate together.
URL:https://nymom.com/event/lunar-new-year-celebration-2/
END:VEVENT
END:VCALENDAR