BEGIN:VCALENDAR
VERSION:2.0
PRODID:-//NY Mom - ECPv6.15.20//NONSGML v1.0//EN
CALSCALE:GREGORIAN
METHOD:PUBLISH
X-ORIGINAL-URL:https://nymom.com
X-WR-CALDESC:Events for NY Mom
REFRESH-INTERVAL;VALUE=DURATION:PT1H
X-Robots-Tag:noindex
X-PUBLISHED-TTL:PT1H
BEGIN:VTIMEZONE
TZID:UTC
BEGIN:STANDARD
TZOFFSETFROM:+0000
TZOFFSETTO:+0000
TZNAME:UTC
DTSTART:20250101T000000
END:STANDARD
END:VTIMEZONE
BEGIN:VEVENT
DTSTART;TZID=UTC:20260417T080000
DTEND;TZID=UTC:20260417T170000
DTSTAMP:20260422T222031
CREATED:20260126T152331Z
LAST-MODIFIED:20260126T152331Z
UID:10012164-1776412800-1776445200@nymom.com
SUMMARY:The Orchid Show: Mr Flower Fantastic's Concrete Jungle
DESCRIPTION:Take in beautiful orchids combined with concrete in a reimagining of the Big Apple including stoops\, pizza shops\, and even the subway!
URL:https://nymom.com/event/the-orchid-show-mr-flower-fantastics-concrete-jungle/2026-04-17/
END:VEVENT
BEGIN:VEVENT
DTSTART;TZID=UTC:20260418T080000
DTEND;TZID=UTC:20260418T170000
DTSTAMP:20260422T222031
CREATED:20260126T152331Z
LAST-MODIFIED:20260126T152331Z
UID:10012165-1776499200-1776531600@nymom.com
SUMMARY:The Orchid Show: Mr Flower Fantastic's Concrete Jungle
DESCRIPTION:Take in beautiful orchids combined with concrete in a reimagining of the Big Apple including stoops\, pizza shops\, and even the subway!
URL:https://nymom.com/event/the-orchid-show-mr-flower-fantastics-concrete-jungle/2026-04-18/
END:VEVENT
BEGIN:VEVENT
DTSTART;TZID=UTC:20260419T080000
DTEND;TZID=UTC:20260419T170000
DTSTAMP:20260422T222031
CREATED:20260126T152331Z
LAST-MODIFIED:20260126T152331Z
UID:10012166-1776585600-1776618000@nymom.com
SUMMARY:The Orchid Show: Mr Flower Fantastic's Concrete Jungle
DESCRIPTION:Take in beautiful orchids combined with concrete in a reimagining of the Big Apple including stoops\, pizza shops\, and even the subway!
URL:https://nymom.com/event/the-orchid-show-mr-flower-fantastics-concrete-jungle/2026-04-19/
END:VEVENT
BEGIN:VEVENT
DTSTART;TZID=UTC:20260420T080000
DTEND;TZID=UTC:20260420T170000
DTSTAMP:20260422T222031
CREATED:20260126T152331Z
LAST-MODIFIED:20260126T152331Z
UID:10012167-1776672000-1776704400@nymom.com
SUMMARY:The Orchid Show: Mr Flower Fantastic's Concrete Jungle
DESCRIPTION:Take in beautiful orchids combined with concrete in a reimagining of the Big Apple including stoops\, pizza shops\, and even the subway!
URL:https://nymom.com/event/the-orchid-show-mr-flower-fantastics-concrete-jungle/2026-04-20/
END:VEVENT
BEGIN:VEVENT
DTSTART;TZID=UTC:20260421T080000
DTEND;TZID=UTC:20260421T170000
DTSTAMP:20260422T222031
CREATED:20260126T152331Z
LAST-MODIFIED:20260126T152331Z
UID:10012168-1776758400-1776790800@nymom.com
SUMMARY:The Orchid Show: Mr Flower Fantastic's Concrete Jungle
DESCRIPTION:Take in beautiful orchids combined with concrete in a reimagining of the Big Apple including stoops\, pizza shops\, and even the subway!
URL:https://nymom.com/event/the-orchid-show-mr-flower-fantastics-concrete-jungle/2026-04-21/
END:VEVENT
BEGIN:VEVENT
DTSTART;TZID=UTC:20260422T080000
DTEND;TZID=UTC:20260422T170000
DTSTAMP:20260422T222031
CREATED:20260126T152331Z
LAST-MODIFIED:20260126T152331Z
UID:10012169-1776844800-1776877200@nymom.com
SUMMARY:The Orchid Show: Mr Flower Fantastic's Concrete Jungle
DESCRIPTION:Take in beautiful orchids combined with concrete in a reimagining of the Big Apple including stoops\, pizza shops\, and even the subway!
URL:https://nymom.com/event/the-orchid-show-mr-flower-fantastics-concrete-jungle/2026-04-22/
END:VEVENT
BEGIN:VEVENT
DTSTART;TZID=UTC:20260423T080000
DTEND;TZID=UTC:20260423T170000
DTSTAMP:20260422T222031
CREATED:20260126T152331Z
LAST-MODIFIED:20260126T152331Z
UID:10012170-1776931200-1776963600@nymom.com
SUMMARY:The Orchid Show: Mr Flower Fantastic's Concrete Jungle
DESCRIPTION:Take in beautiful orchids combined with concrete in a reimagining of the Big Apple including stoops\, pizza shops\, and even the subway!
URL:https://nymom.com/event/the-orchid-show-mr-flower-fantastics-concrete-jungle/2026-04-23/
END:VEVENT
BEGIN:VEVENT
DTSTART;TZID=UTC:20260424T080000
DTEND;TZID=UTC:20260424T170000
DTSTAMP:20260422T222031
CREATED:20260126T152331Z
LAST-MODIFIED:20260126T152331Z
UID:10012171-1777017600-1777050000@nymom.com
SUMMARY:The Orchid Show: Mr Flower Fantastic's Concrete Jungle
DESCRIPTION:Take in beautiful orchids combined with concrete in a reimagining of the Big Apple including stoops\, pizza shops\, and even the subway!
URL:https://nymom.com/event/the-orchid-show-mr-flower-fantastics-concrete-jungle/2026-04-24/
END:VEVENT
BEGIN:VEVENT
DTSTART;TZID=UTC:20260425T080000
DTEND;TZID=UTC:20260425T170000
DTSTAMP:20260422T222031
CREATED:20260126T152331Z
LAST-MODIFIED:20260126T152331Z
UID:10012172-1777104000-1777136400@nymom.com
SUMMARY:The Orchid Show: Mr Flower Fantastic's Concrete Jungle
DESCRIPTION:Take in beautiful orchids combined with concrete in a reimagining of the Big Apple including stoops\, pizza shops\, and even the subway!
URL:https://nymom.com/event/the-orchid-show-mr-flower-fantastics-concrete-jungle/2026-04-25/
END:VEVENT
BEGIN:VEVENT
DTSTART;TZID=UTC:20260426T080000
DTEND;TZID=UTC:20260426T170000
DTSTAMP:20260422T222031
CREATED:20260126T152331Z
LAST-MODIFIED:20260126T152331Z
UID:10012173-1777190400-1777222800@nymom.com
SUMMARY:The Orchid Show: Mr Flower Fantastic's Concrete Jungle
DESCRIPTION:Take in beautiful orchids combined with concrete in a reimagining of the Big Apple including stoops\, pizza shops\, and even the subway!
URL:https://nymom.com/event/the-orchid-show-mr-flower-fantastics-concrete-jungle/2026-04-26/
END:VEVENT
END:VCALENDAR