BEGIN:VCALENDAR
VERSION:2.0
PRODID:-//NY Mom - ECPv6.15.20//NONSGML v1.0//EN
CALSCALE:GREGORIAN
METHOD:PUBLISH
X-WR-CALNAME:NY Mom
X-ORIGINAL-URL:https://nymom.com
X-WR-CALDESC:Events for NY Mom
REFRESH-INTERVAL;VALUE=DURATION:PT1H
X-Robots-Tag:noindex
X-PUBLISHED-TTL:PT1H
BEGIN:VTIMEZONE
TZID:UTC
BEGIN:STANDARD
TZOFFSETFROM:+0000
TZOFFSETTO:+0000
TZNAME:UTC
DTSTART:20250101T000000
END:STANDARD
END:VTIMEZONE
BEGIN:VEVENT
DTSTART;TZID=UTC:20260212T080000
DTEND;TZID=UTC:20260212T170000
DTSTAMP:20260423T050023
CREATED:20260126T152331Z
LAST-MODIFIED:20260126T152331Z
UID:10012100-1770883200-1770915600@nymom.com
SUMMARY:The Orchid Show: Mr Flower Fantastic's Concrete Jungle
DESCRIPTION:Take in beautiful orchids combined with concrete in a reimagining of the Big Apple including stoops\, pizza shops\, and even the subway!
URL:https://nymom.com/event/the-orchid-show-mr-flower-fantastics-concrete-jungle/2026-02-12/
END:VEVENT
BEGIN:VEVENT
DTSTART;TZID=UTC:20260211T080000
DTEND;TZID=UTC:20260211T170000
DTSTAMP:20260423T050023
CREATED:20260126T152331Z
LAST-MODIFIED:20260126T152331Z
UID:10012099-1770796800-1770829200@nymom.com
SUMMARY:The Orchid Show: Mr Flower Fantastic's Concrete Jungle
DESCRIPTION:Take in beautiful orchids combined with concrete in a reimagining of the Big Apple including stoops\, pizza shops\, and even the subway!
URL:https://nymom.com/event/the-orchid-show-mr-flower-fantastics-concrete-jungle/2026-02-11/
END:VEVENT
BEGIN:VEVENT
DTSTART;TZID=UTC:20260210T080000
DTEND;TZID=UTC:20260210T170000
DTSTAMP:20260423T050023
CREATED:20260126T152331Z
LAST-MODIFIED:20260126T152331Z
UID:10012098-1770710400-1770742800@nymom.com
SUMMARY:The Orchid Show: Mr Flower Fantastic's Concrete Jungle
DESCRIPTION:Take in beautiful orchids combined with concrete in a reimagining of the Big Apple including stoops\, pizza shops\, and even the subway!
URL:https://nymom.com/event/the-orchid-show-mr-flower-fantastics-concrete-jungle/2026-02-10/
END:VEVENT
BEGIN:VEVENT
DTSTART;TZID=UTC:20260209T080000
DTEND;TZID=UTC:20260209T170000
DTSTAMP:20260423T050023
CREATED:20260126T152331Z
LAST-MODIFIED:20260126T152331Z
UID:10012097-1770624000-1770656400@nymom.com
SUMMARY:The Orchid Show: Mr Flower Fantastic's Concrete Jungle
DESCRIPTION:Take in beautiful orchids combined with concrete in a reimagining of the Big Apple including stoops\, pizza shops\, and even the subway!
URL:https://nymom.com/event/the-orchid-show-mr-flower-fantastics-concrete-jungle/2026-02-09/
END:VEVENT
BEGIN:VEVENT
DTSTART;TZID=UTC:20260208T080000
DTEND;TZID=UTC:20260208T170000
DTSTAMP:20260423T050023
CREATED:20260126T152331Z
LAST-MODIFIED:20260126T152331Z
UID:10012096-1770537600-1770570000@nymom.com
SUMMARY:The Orchid Show: Mr Flower Fantastic's Concrete Jungle
DESCRIPTION:Take in beautiful orchids combined with concrete in a reimagining of the Big Apple including stoops\, pizza shops\, and even the subway!
URL:https://nymom.com/event/the-orchid-show-mr-flower-fantastics-concrete-jungle/2026-02-08/
END:VEVENT
BEGIN:VEVENT
DTSTART;TZID=UTC:20260207T080000
DTEND;TZID=UTC:20260207T170000
DTSTAMP:20260423T050023
CREATED:20260126T152331Z
LAST-MODIFIED:20260126T152331Z
UID:10012095-1770451200-1770483600@nymom.com
SUMMARY:The Orchid Show: Mr Flower Fantastic's Concrete Jungle
DESCRIPTION:Take in beautiful orchids combined with concrete in a reimagining of the Big Apple including stoops\, pizza shops\, and even the subway!
URL:https://nymom.com/event/the-orchid-show-mr-flower-fantastics-concrete-jungle/2026-02-07/
END:VEVENT
BEGIN:VEVENT
DTSTART;TZID=UTC:20260201T080000
DTEND;TZID=UTC:20260201T170000
DTSTAMP:20260423T050023
CREATED:20260126T152834Z
LAST-MODIFIED:20260126T152834Z
UID:10012182-1769932800-1769965200@nymom.com
SUMMARY:The Grandest Princess Ball
DESCRIPTION:Have a little one who loves princesses? Then this event is for you! \nHighlights include:\n✨ Step into a magical wintery fairytale with your favorite princesses\n🍰 Enjoy delightful desserts and treats fit for royalty\n🎶 Dance\, sing\, and play enchanting interactive games with princesses\n🎉 Create unforgettable family memories in a sparkling royal celebration
URL:https://nymom.com/event/the-grandest-princess-ball/2026-02-01/
END:VEVENT
BEGIN:VEVENT
DTSTART;TZID=UTC:20260201T080000
DTEND;TZID=UTC:20260201T170000
DTSTAMP:20260423T050023
CREATED:20260126T151812Z
LAST-MODIFIED:20260126T151812Z
UID:10012090-1769932800-1769965200@nymom.com
SUMMARY:Disney On Ice: Mickey's Search Party
DESCRIPTION:Grab the family and head to this fun event to see all of your Disney friends glide across the ice and tell the beloved stores that everyone will know! 
URL:https://nymom.com/event/disney-on-ice-mickeys-search-party/2026-02-01/
END:VEVENT
BEGIN:VEVENT
DTSTART;TZID=UTC:20260131T080000
DTEND;TZID=UTC:20260131T170000
DTSTAMP:20260423T050023
CREATED:20260126T151812Z
LAST-MODIFIED:20260126T151812Z
UID:10012089-1769846400-1769878800@nymom.com
SUMMARY:Disney On Ice: Mickey's Search Party
DESCRIPTION:Grab the family and head to this fun event to see all of your Disney friends glide across the ice and tell the beloved stores that everyone will know! 
URL:https://nymom.com/event/disney-on-ice-mickeys-search-party/2026-01-31/
END:VEVENT
BEGIN:VEVENT
DTSTART;TZID=UTC:20260130T080000
DTEND;TZID=UTC:20260130T170000
DTSTAMP:20260423T050023
CREATED:20260126T151812Z
LAST-MODIFIED:20260126T151812Z
UID:10012088-1769760000-1769792400@nymom.com
SUMMARY:Disney On Ice: Mickey's Search Party
DESCRIPTION:Grab the family and head to this fun event to see all of your Disney friends glide across the ice and tell the beloved stores that everyone will know! 
URL:https://nymom.com/event/disney-on-ice-mickeys-search-party/2026-01-30/
END:VEVENT
END:VCALENDAR