BEGIN:VCALENDAR
VERSION:2.0
PRODID:-//NY Mom - ECPv6.15.20//NONSGML v1.0//EN
CALSCALE:GREGORIAN
METHOD:PUBLISH
X-WR-CALNAME:NY Mom
X-ORIGINAL-URL:https://nymom.com
X-WR-CALDESC:Events for NY Mom
REFRESH-INTERVAL;VALUE=DURATION:PT1H
X-Robots-Tag:noindex
X-PUBLISHED-TTL:PT1H
BEGIN:VTIMEZONE
TZID:UTC
BEGIN:STANDARD
TZOFFSETFROM:+0000
TZOFFSETTO:+0000
TZNAME:UTC
DTSTART:20250101T000000
END:STANDARD
END:VTIMEZONE
BEGIN:VEVENT
DTSTART;TZID=UTC:20260214T080000
DTEND;TZID=UTC:20260214T170000
DTSTAMP:20260423T013411
CREATED:20260126T152331Z
LAST-MODIFIED:20260126T152331Z
UID:10012102-1771056000-1771088400@nymom.com
SUMMARY:The Orchid Show: Mr Flower Fantastic's Concrete Jungle
DESCRIPTION:Take in beautiful orchids combined with concrete in a reimagining of the Big Apple including stoops\, pizza shops\, and even the subway!
URL:https://nymom.com/event/the-orchid-show-mr-flower-fantastics-concrete-jungle/2026-02-14/
END:VEVENT
BEGIN:VEVENT
DTSTART;TZID=UTC:20260214T080000
DTEND;TZID=UTC:20260214T170000
DTSTAMP:20260423T013411
CREATED:20260126T152440Z
LAST-MODIFIED:20260126T152440Z
UID:10012174-1771056000-1771088400@nymom.com
SUMMARY:Museum of Modern Art Family Festival: Color Play
DESCRIPTION:The kids will love this festival that includes spaces to play\, create\, and dream.
URL:https://nymom.com/event/museum-of-modern-art-family-festival-color-play/2026-02-14/
END:VEVENT
BEGIN:VEVENT
DTSTART;TZID=UTC:20260214T080000
DTEND;TZID=UTC:20260214T170000
DTSTAMP:20260423T013411
CREATED:20260126T152834Z
LAST-MODIFIED:20260126T152834Z
UID:10012183-1771056000-1771088400@nymom.com
SUMMARY:The Grandest Princess Ball
DESCRIPTION:Have a little one who loves princesses? Then this event is for you! \nHighlights include:\n✨ Step into a magical wintery fairytale with your favorite princesses\n🍰 Enjoy delightful desserts and treats fit for royalty\n🎶 Dance\, sing\, and play enchanting interactive games with princesses\n🎉 Create unforgettable family memories in a sparkling royal celebration
URL:https://nymom.com/event/the-grandest-princess-ball/2026-02-14/
END:VEVENT
BEGIN:VEVENT
DTSTART;TZID=UTC:20260214T080000
DTEND;TZID=UTC:20260214T170000
DTSTAMP:20260423T013411
CREATED:20260129T162229Z
LAST-MODIFIED:20260129T162229Z
UID:10012189-1771056000-1771088400@nymom.com
SUMMARY:Intrepid Museum 2026 Kids Week
DESCRIPTION:The Intrepid Museum will host its annual Kids Week festival from Saturday\, February 14–Saturday\, February 21. During Kids Week\, children of all ages and interests will learn about STEAM (science\, technology\, engineering\, arts & math) through fun-filled activities\, hands-on workshops\, live animal encounters\, performances\, special guests and interactive demonstrations designed to educate and inspire. \nKids Week 2026 will feature programming across three core themes\, including Aerospace\, Arts & Culture\, and Nature & STEM\, offering families a wide range of engaging experiences throughout the week.
URL:https://nymom.com/event/intrepid-museum-2026-kids-week/2026-02-14/
END:VEVENT
BEGIN:VEVENT
DTSTART;TZID=UTC:20260214T080000
DTEND;TZID=UTC:20260214T170000
DTSTAMP:20260423T013411
CREATED:20260129T162309Z
LAST-MODIFIED:20260129T162309Z
UID:10012197-1771056000-1771088400@nymom.com
SUMMARY:The Camellia Festival
DESCRIPTION:Step into a vibrant winter festival this Valentine’s Day weekend and experience the season’s most enchanting sight: over 200 camellia varieties in full bloom! \nLong celebrated for their elegance\, color\, and symbolism\, these stunning flowers offer the perfect way to celebrate the holiday weekend and shake off the winter blues. Whether you’re visiting with a partner\, friends\, family\, or simply treating yourself to something beautiful\, there is something for everyone. \nThis multi-sensory festival spans both the Main House and the Camellia Greenhouse\, with something for every visitor.
URL:https://nymom.com/event/the-camellia-festival/2026-02-14/
END:VEVENT
END:VCALENDAR